BEGIN:VCALENDAR
VERSION:2.0
PRODID:-//Be Future Ready - ECPv6.15.20//NONSGML v1.0//EN
CALSCALE:GREGORIAN
METHOD:PUBLISH
X-ORIGINAL-URL:https://bfrnonprofit.com
X-WR-CALDESC:Events for Be Future Ready
REFRESH-INTERVAL;VALUE=DURATION:PT1H
X-Robots-Tag:noindex
X-PUBLISHED-TTL:PT1H
BEGIN:VTIMEZONE
TZID:America/Toronto
BEGIN:DAYLIGHT
TZOFFSETFROM:-0500
TZOFFSETTO:-0400
TZNAME:EDT
DTSTART:20250309T070000
END:DAYLIGHT
BEGIN:STANDARD
TZOFFSETFROM:-0400
TZOFFSETTO:-0500
TZNAME:EST
DTSTART:20251102T060000
END:STANDARD
BEGIN:DAYLIGHT
TZOFFSETFROM:-0500
TZOFFSETTO:-0400
TZNAME:EDT
DTSTART:20260308T070000
END:DAYLIGHT
BEGIN:STANDARD
TZOFFSETFROM:-0400
TZOFFSETTO:-0500
TZNAME:EST
DTSTART:20261101T060000
END:STANDARD
BEGIN:DAYLIGHT
TZOFFSETFROM:-0500
TZOFFSETTO:-0400
TZNAME:EDT
DTSTART:20270314T070000
END:DAYLIGHT
BEGIN:STANDARD
TZOFFSETFROM:-0400
TZOFFSETTO:-0500
TZNAME:EST
DTSTART:20271107T060000
END:STANDARD
END:VTIMEZONE
BEGIN:VEVENT
DTSTART;TZID=America/Toronto:20260512T080000
DTEND;TZID=America/Toronto:20260512T170000
DTSTAMP:20260420T133956
CREATED:20260326T234604Z
LAST-MODIFIED:20260326T234604Z
UID:1285-1778572800-1778605200@bfrnonprofit.com
SUMMARY:Digital Citizenship for Youth: Online Safety Workshop
DESCRIPTION:
URL:https://bfrnonprofit.com/event/digital-citizenship-for-youth-online-safety-workshop/
LOCATION:North Kipling Community Centre\, Etobicoke\, ON\, North Kipling Community Centre\, Etobicoke\, ON\, Ontario\, Toronto\, Nigeria
CATEGORIES:Canada,In-Person
ATTACH;FMTTYPE=image/png:https://bfrnonprofit.com/wp-content/uploads/2026/03/event4.png
END:VEVENT
END:VCALENDAR