BEGIN:VCALENDAR
VERSION:2.0
PRODID:-//Be Future Ready - ECPv6.15.20//NONSGML v1.0//EN
CALSCALE:GREGORIAN
METHOD:PUBLISH
X-WR-CALNAME:Be Future Ready
X-ORIGINAL-URL:https://bfrnonprofit.com
X-WR-CALDESC:Events for Be Future Ready
REFRESH-INTERVAL;VALUE=DURATION:PT1H
X-Robots-Tag:noindex
X-PUBLISHED-TTL:PT1H
BEGIN:VTIMEZONE
TZID:America/Toronto
BEGIN:DAYLIGHT
TZOFFSETFROM:-0500
TZOFFSETTO:-0400
TZNAME:EDT
DTSTART:20250309T070000
END:DAYLIGHT
BEGIN:STANDARD
TZOFFSETFROM:-0400
TZOFFSETTO:-0500
TZNAME:EST
DTSTART:20251102T060000
END:STANDARD
BEGIN:DAYLIGHT
TZOFFSETFROM:-0500
TZOFFSETTO:-0400
TZNAME:EDT
DTSTART:20260308T070000
END:DAYLIGHT
BEGIN:STANDARD
TZOFFSETFROM:-0400
TZOFFSETTO:-0500
TZNAME:EST
DTSTART:20261101T060000
END:STANDARD
BEGIN:DAYLIGHT
TZOFFSETFROM:-0500
TZOFFSETTO:-0400
TZNAME:EDT
DTSTART:20270314T070000
END:DAYLIGHT
BEGIN:STANDARD
TZOFFSETFROM:-0400
TZOFFSETTO:-0500
TZNAME:EST
DTSTART:20271107T060000
END:STANDARD
END:VTIMEZONE
BEGIN:VEVENT
DTSTART;TZID=America/Toronto:20260406T080000
DTEND;TZID=America/Toronto:20260412T170000
DTSTAMP:20260420T172009
CREATED:20260326T234241Z
LAST-MODIFIED:20260326T234241Z
UID:1277-1775462400-1776013200@bfrnonprofit.com
SUMMARY:Robotics & Coding Showcase: STEAM Education in Action
DESCRIPTION:Celebrate our learners as they showcase robotics projects\, coding demos\, and interactive Q&A.
URL:https://bfrnonprofit.com/event/robotics-coding-showcase-steam-education-in-action/
LOCATION:Community Center\, Johannesburg\, South Africa\, Community Center\, Johannesburg\, South Africa\, Johannesburg\, Johannesburg\, South Africa
CATEGORIES:In-Person,South Africa,Workshop
ATTACH;FMTTYPE=image/png:https://bfrnonprofit.com/wp-content/uploads/2026/03/event2.png
END:VEVENT
BEGIN:VEVENT
DTSTART;VALUE=DATE:20260401
DTEND;VALUE=DATE:20260411
DTSTAMP:20260420T172009
CREATED:20260326T233752Z
LAST-MODIFIED:20260326T233752Z
UID:1269-1775001600-1775865599@bfrnonprofit.com
SUMMARY:Tech Savvy Pathways: Intro to Smartphones
DESCRIPTION:Join us for a beginner-friendly workshop where seniors will learn smartphone basics\, internet safety\, and how to stay connected.
URL:https://bfrnonprofit.com/event/tech-savvy-pathways-intro-to-smartphones/
LOCATION:Online via Zoom\, Online via Zoom
CATEGORIES:Canada,Virtual,Workshop
ATTACH;FMTTYPE=image/png:https://bfrnonprofit.com/wp-content/uploads/2026/03/event1.png
END:VEVENT
BEGIN:VEVENT
DTSTART;TZID=America/Toronto:20260212T080000
DTEND;TZID=America/Toronto:20260212T170000
DTSTAMP:20260420T172009
CREATED:20260326T234438Z
LAST-MODIFIED:20260328T162221Z
UID:1282-1770883200-1770915600@bfrnonprofit.com
SUMMARY:Tech Savvy Pathways: Intro to Smartphones
DESCRIPTION:Digital Citizenship Workshop: Empowering Youth for Online Safety\nOver 30 young people joined us at the Jane and Finch Community Centre to learn about online safety\, digital footprints\, cyberbullying prevention\, and responsible social media use. Through interactive activities\, real-world scenarios\, and group discussions\, participants gained practical tools to protect themselves online. \nThe workshop created a safe space where teens could ask questions\, share concerns\, and learn from each other’s perspectives. Facilitators led hands-on sessions covering password security\, privacy settings\, recognizing scams\, and responding to cyberbullying. \nEach participant left with a certificate of completion and a personalized Digital Safety Action Plan. Parents joined us for the final session to learn alongside their teens and receive resources for continuing conversations at home.
URL:https://bfrnonprofit.com/event/tech-savvy-pathways-intro-to-smartphones-2/
LOCATION:Online via Zoom\, Online via Zoom
CATEGORIES:Canada,Virtual
ATTACH;FMTTYPE=image/png:https://bfrnonprofit.com/wp-content/uploads/2026/03/event1.png
END:VEVENT
END:VCALENDAR